BEGIN:VCALENDAR
VERSION:2.0
X-WR-CALNAME:www.indybay.org
PRODID:-//indybay/ical// v1.0//EN
BEGIN:VEVENT
UID:Indybay-78693
SEQUENCE:78693
CREATED:20051019T085000Z
DESCRIPTION:Next Fri. OCT. 28 - ACTIVISM Series with  JANE & TOM KELLY: Experts on 
 GLOBAL WARMING, CLIMATE CHANGE,  the Precautionary Principle.    "Not Cool 
 to Be Too Hot"  Tom & Jane have dedicated their lives to making a 
 difference for our long-term survival.    $10 suggested.  No one turned 
 away for lack of funds.  Social Justice in the Heart of the East Bay  We 
 educate, commiserate, collaborate, agitate, activate together for positive 
 change.   Welcome!  produced by BFUU's Social Justie Committee  \n 
 https://www.indybay.org/newsitems/2005/10/19/78693.php
SUMMARY:Not Cool to Be Hot - CLIMATE CHANGE
LOCATION:Berkeley Fellowship of UU's Hall -1924 Cedar St. at Bonita, Berkeley 94709  
  wheelchair access   Halfway between north Berk & downtown BARTs   Exit 
 980/580 up University Ave, left on MLK Wy, right on Cedar, 1 block to 
 Bonita
URL:https://www.indybay.org/newsitems/2005/10/19/78693.php
DTSTART:20051029T020000Z
DTEND:20051029T040000Z
END:VEVENT
END:VCALENDAR
