BEGIN:VCALENDAR
VERSION:2.0
X-WR-CALNAME:www.indybay.org
PRODID:-//indybay/ical// v1.0//EN
BEGIN:VEVENT
UID:Indybay-7813
SEQUENCE:7813
CREATED:20040203T182400Z
DESCRIPTION:\n \n\nIF YOU ARE INTERESTED IN PARTICIPATING IN FREEDOM 
 SUMMER-PALESTINE\n\n\n\nPLEASE JOIN US IN WELCOMING GEORGE RISHMAWI FROM 
 BETHLEHEM- INTERNATIONAL SOLIDARITY MOVEMENT:\n\nWednesday, May 29th   7 - 
 9 pm\nWomen’s Building                            \n3543 18th St. San 
 Francisco, Ca\n\nThursday, May 30th  7 – 9 pm\nFellowship of Humanity 
 Hall\n390 27th St. Oakland, Ca \n\nFor more information please call:  
 510-364-5248.\n\nGeorge Rishmawi is the Coordinator of the Travel and 
 Encounter Department for Holy Land Trust and the Registration Coordinator 
 for The International Solidarity Movement.   He will be speaking about his 
 recent trip to Palestine.\n\nSPONSORED BY:\n\nTHE INTERNATIONAL SOLIDARITY 
 MOVEMENT (ISM) SUPPORT GROUP OF NORTHERN CALIFORNIA\n\nThe ISM is a growing 
 non-violent movement of Palestinian/Israeli and International activists 
 working to raise awareness of the Palestinian struggle for freedom and an 
 end to the Israeli military occupation.  Holy Land Trust is an organization 
 which stands in solidarity with the Palestinian people for a real, just and 
 lasting peace in the Holy Land. \n\nSuggested Donation $10.00 plus:  No one 
 turned away for lack of funds\n\nFor more information on the Northern 
 California ISM - email westbanklink@yahoo.com \n\nLabor donated, please 
 recycle.\n\n\n\n\n\n\n 
 https://www.indybay.org/newsitems/2004/02/03/7813.php
SUMMARY:George Rishmawi Speaking Tour
LOCATION:Wednesday, May 29th   7 - 9 pm\nWomen’s Building                          
   \n3543 18th St. San Francisco, Ca\n
URL:https://www.indybay.org/newsitems/2004/02/03/7813.php
DTSTART:20020530T020000Z
DTEND:20020530T040000Z
END:VEVENT
END:VCALENDAR
