BEGIN:VCALENDAR
VERSION:2.0
X-WR-CALNAME:www.indybay.org
PRODID:-//indybay/ical// v1.0//EN
BEGIN:VEVENT
UID:Indybay-77963
SEQUENCE:77963
CREATED:20051010T063000Z
DESCRIPTION:Kung Pao Kosher Comedy Presents...   The 2nd Annual George Bush Going Away 
 Party: An Evening of Political Comedy  Partial proceeds once again will 
 benefit CCCO's "Military Out of Our Schools” program  Last year’s sold 
 out show, on the eve of the presidential “elections,” was a success but 
 failed to send Bush back to Crawford so we’re trying again. With his 
 approval rating sinking to a new low of 38%, coupled with his record on 
 Iraq, and his slow and bungling response to Hurricane Katrina, we figured 
 we’d try once more to usher Bush out and send him back home while 
 continuing to provide needed political comic relief to the citizens of the 
 Bay Area.    Featuring a multicultural variety of political comedians from 
 both New York and San Francisco:  -Bill Santiago (The Latino Laugh 
 Festival; Comedy Central's Premium Blend)   -Diane Amos (The Pine Sol Lady; 
 film actress)  -Lisa Geduldig (Producer of Kung Pao Kosher Comedy, Funny 
 Girlz, Charo…)  -Scott Blakeman (New York’s premier political comic)  
 -Alana Devich (Semi-finalist in Comedy Central’s “Laugh Riots” 
 competition)  -Ross Turner (Veteran of several “Bush Bash” political 
 comedy shows)  -Aundre the Wonderwoman (Anti-death penalty advocate by day; 
 comic by night)  Tix: $25, $30, & $35  (Get a $5 discount: Call the box 
 office or get tix at the door and say "Kung Pao")  City Box Office: 
 http://www.cityboxoffice.com or (415) 392-4400   More info: 
 http://www.koshercomedy.com or (415) 522-3737 \n 
 https://www.indybay.org/newsitems/2005/10/09/77963.php
SUMMARY:The 2nd Annual George Bush Going Away Party: An Evening of Political Comedy
LOCATION:401 Van Ness Ave @ McAllister
URL:https://www.indybay.org/newsitems/2005/10/09/77963.php
DTSTART:20051016T030000Z
DTEND:20051016T050000Z
END:VEVENT
END:VCALENDAR
