BEGIN:VCALENDAR
VERSION:2.0
X-WR-CALNAME:www.indybay.org
PRODID:-//indybay/ical// v1.0//EN
BEGIN:VEVENT
UID:Indybay-77643
SEQUENCE:77643
CREATED:20051006T091200Z
DESCRIPTION:Some experiences leave us changed forever.  Join Lea Bender on her return 
 journey to a small mountaintop village in Ghana where she finds herself 
 participating in possession rituals with a group of African spirit mediums. 
 Second Sight weaves live solo performance with video and soundscape to tell 
 this incredible true story. Through characters from her time in Ghana 
 (including the lively and often comical spirits themselves), Lea opens the 
 door to questions about belief, spirituality and the unknown for both 
 herself and her audiences.     Vessel Theater Company in association with  
 Young Performers Theater presents     Second Sight  A One-Woman Show  
 Written & Performed by Lea Bender     Directed by Richard "Spark" Szpigiel  
 Lighting by Jarrod Fischer  Multi-media Elements by Lea Bender  Stage 
 Managed by Peggy Powell  ONE NIGHT ONLY!  Thursday, November 17, 2005  
 Doors open @ 7:45 PM  Show starts @ 8:00 PM     Show runs about 70 minutes 
 without intermission  Tickets: $15 General Admission  For reservations call 
 (415) 561-1465     Location:  Young Performers Theater (wheelchair 
 accessible)  Fort Mason Center - Landmark Building C - 3rd Floor  San 
 Francisco, CA     For more info about Second Sight visit 
 http://www.vesselproject.org  For more information about Young Performers 
 Theater visit http://www.ypt.org\n 
 https://www.indybay.org/newsitems/2005/10/06/77643.php
SUMMARY:Second Sight
LOCATION:Young Performers Theater  Fort Mason Center  Landmark Bldg. C  3rd Floor
URL:https://www.indybay.org/newsitems/2005/10/06/77643.php
DTSTART:20051118T040000Z
DTEND:20051118T060000Z
END:VEVENT
END:VCALENDAR
