BEGIN:VCALENDAR
VERSION:2.0
X-WR-CALNAME:www.indybay.org
PRODID:-//indybay/ical// v1.0//EN
BEGIN:VEVENT
UID:Indybay-77023
SEQUENCE:77023
CREATED:20051001T063900Z
DESCRIPTION:John Harrington will speak about the topic of his latest book, Challenge to 
 Power: Money, Investing and Democracy.   John Harrington's recently 
 published book The Challenge to Power examines the inextricable link 
 between corporations and democracy and identifies a variety of strategies 
 and tactics that can be used by progressives, organizations, and 
 institutional investors to thwart corporate domination of the earth’s 
 resources, decentralize our economy, restore democracy, tame corruption, 
 and regain community control of our financial resources.   John C. 
 Harrington has been a leader in the socially responsible investment 
 movement for over thirty years, and was a key architect of the divestment 
 movement against the apartheid government in South Africa. He is currently 
 the President and CEO of Harrington Investments, Inc. Author of Investing 
 with Your Conscience, he is also one of the founders and former chairman of 
 the board of Working Assets and Progressive Asset Management, two 
 pioneering socially responsible financial services companies.  Event 
 Sponsors: New College Center for Education and Social Action, Global 
 Exchange, the ACLU of Northern California, and others.   For more 
 information contact:  June Brashares  Global Exchange  415-255-7296 ext. 
 253  june@globalexchange.com    \n 
 https://www.indybay.org/newsitems/2005/09/30/77023.php
SUMMARY:John Harrington speaks on "Challenge to Power: Money, Investing and Democracy"
LOCATION:New College Theater, 777 Valencia Street, San Francsico
URL:https://www.indybay.org/newsitems/2005/09/30/77023.php
DTSTART:20051005T020000Z
DTEND:20051005T040000Z
END:VEVENT
END:VCALENDAR
