BEGIN:VCALENDAR
VERSION:2.0
X-WR-CALNAME:www.indybay.org
PRODID:-//indybay/ical// v1.0//EN
BEGIN:VEVENT
UID:Indybay-77003
SEQUENCE:77003
CREATED:20050930T210000Z
DESCRIPTION:Friday September 30th ~ 8pm N.E.E.D 15th Anniversery Party      Get down 
 and party with the Hotties of Harm Reduction. A 15th Anniversery party for 
 the East Bay Needle exchange program.  http://www.berkeleyneed.org/  
 http://www.thelonghaul.org\n 
 https://www.indybay.org/newsitems/2005/09/30/77003.php
SUMMARY:NEED 15th Anniversary Party
LOCATION:at the Long Haul  3124 Shattuck Ave. Berkeley Ca. Phone (510) 540-0751  (2 
 blocks from Ashby BART, Across from La Peña Cultural Center)
URL:https://www.indybay.org/newsitems/2005/09/30/77003.php
DTSTART:20051001T030000Z
DTEND:20051001T070000Z
END:VEVENT
END:VCALENDAR
