BEGIN:VCALENDAR
VERSION:2.0
X-WR-CALNAME:www.indybay.org
PRODID:-//indybay/ical// v1.0//EN
BEGIN:VEVENT
UID:Indybay-76903
SEQUENCE:76903
CREATED:20050929T212400Z
DESCRIPTION:ÊÓ¸ß¿Æ¼¼[url=http://www.seegle.com]ÊÓÆµ»áÒé[/url]×¨ÒµÊÓÆµ»áÒé³§ÉÌ,»ùÓÚIPÊÓÆµ»áÒéÓ¦ÓÃ,»ùÓÚ×¨ÏßºÍIPµÄH.320&H.323Ë«Ð­ÒéÊÓÆµ»áÒéÓ¦ÓÃ,»ùÓÚADSL½ÓÈëµÄÊÓÆµ»áÒéÓ¦ÓÃ,»ùÓÚÎÀÐÇµÄÊÓÆµ»áÒéÓ¦ÓÃ. 
  ÊÓ¸ß¿Æ¼¼ÊÓÆµ»áÒéÊÓÆµ»áÒé,µçÊÓ»áÒé,ÍøÂçµçÊÓ»áÒé,Ô¶³ÌµçÊÓ»áÒé,ÊÓÑ¶²úÆ·,ÍøÂçÊÓÆµ»áÒé,ÍøÂç 
 »áÒé,µç×Ó»áÒé,Ô¶³Ì»áÒé,ÊÓÆµ¼à¿Ø,Ô¶³ÌÊÓÆµ»áÒéÏµÍ³,Ô¶³ÌÍøÂçÊÓÆµ»áÒéÏµÍ³,ÊÓÆµ»áÒéÏµÍ³,µç×ÓÉÌÎñ,µç×ÓÕþÎñ,Èí¼þ¿ª·¢. 
  ÊÓ¸ß¿Æ¼¼[href=http://www.seegle.com]ÊÓÆµ»áÒé[/href]ÊÓÆµ²úÆ·¹ã·ºÓ¦ÓÃÓÚÊÓÆµ»áÒé£¬Ô¶³Ì¼à¿Ø£¬ÊÓÆµ¼à¿Ø¡¢ÊÓÆµµã²¥¡¢ÊÓÆµÖ±²¥¡¢ 
 »áÒéµç»°£¬µç»°»áÒé£¬ÊÓÆµ»áÒé×âÁÞ£¬ÊÓÆµ»áÒéÎ¬ÐÞ£¬×âÁÞÊÓÆµ»áÒé£¬±¦ÀûÍ¨£¬ÓÐ´óÁ¿³É¹¦ 
 ÊÓÆµ»áÒéÓ¦ÓÃ°¸Àý¡£\n 
 https://www.indybay.org/newsitems/2005/09/29/76903.php
SUMMARY:we love google!
LOCATION:ÊÓ¸ß¿Æ¼¼[url=http://www.seegle.com]ÊÓÆµ»áÒé[/url]×¨ÒµÊÓÆµ»áÒé³§ÉÌ,»ùÓÚIPÊÓÆµ»áÒéÓ¦ÓÃ,»ùÓÚ×¨ÏßºÍIPµÄH.320&H.323Ë«Ð­ÒéÊÓÆµ»áÒéÓ¦ÓÃ,»ùÓÚADSL½ÓÈëµÄÊÓÆµ»áÒéÓ¦ÓÃ,»ùÓÚÎÀÐÇµÄÊÓÆµ»áÒéÓ¦ÓÃ. 
  ÊÓ¸ß¿Æ¼¼ÊÓÆµ»áÒéÊÓÆµ»áÒé,µçÊÓ»áÒé,ÍøÂçµçÊÓ»áÒé,Ô¶³ÌµçÊÓ»áÒé,ÊÓÑ¶²úÆ·,ÍøÂçÊÓÆµ»áÒé,ÍøÂç 
 »áÒé,µç×Ó»áÒé,Ô¶³Ì»áÒé,ÊÓÆµ¼à¿Ø,Ô¶³ÌÊÓÆµ»áÒéÏµÍ³,Ô¶³ÌÍøÂçÊÓÆµ»áÒéÏµÍ³,ÊÓÆµ»áÒéÏµÍ³,µç×ÓÉÌÎñ,µç×ÓÕþÎñ,Èí¼þ¿ª·¢. 
  ÊÓ¸ß¿Æ¼¼[href=http://www.seegle.com]ÊÓÆµ»áÒé[/href]ÊÓÆµ²úÆ·¹ã·ºÓ¦ÓÃÓÚÊÓÆµ»áÒé£¬Ô¶³Ì¼à¿Ø£¬ÊÓÆµ¼à¿Ø¡¢ÊÓÆµµã²¥¡¢ÊÓÆµÖ±²¥¡¢ 
 »áÒéµç»°£¬µç»°»áÒé£¬ÊÓÆµ»áÒé×âÁÞ£¬ÊÓÆµ»áÒéÎ¬ÐÞ£¬×âÁÞÊÓÆµ»áÒé£¬±¦ÀûÍ¨£¬ÓÐ´óÁ¿³É¹¦ 
 ÊÓÆµ»áÒéÓ¦ÓÃ°¸Àý¡£
URL:https://www.indybay.org/newsitems/2005/09/29/76903.php
DTSTART:20050929T190000Z
DTEND:20050929T200000Z
END:VEVENT
END:VCALENDAR
