BEGIN:VCALENDAR
VERSION:2.0
X-WR-CALNAME:www.indybay.org
PRODID:-//indybay/ical// v1.0//EN
BEGIN:VEVENT
UID:Indybay-76883
SEQUENCE:76883
CREATED:20050929T182100Z
DESCRIPTION:The 2005 PSR/Sacramento annual dinner will be a time to celebrate our past 
 successes, to energize one another to meet our ongoing challenges, and to 
 enjoy each other's company.   We will have another outstanding keynote 
 speaker this year in internationally-known scholar, author, commentator, 
 and filmmaker, Saul Landau. Landau is an internationally-known scholar, 
 author, commentator, and filmmaker.  He is known for his work on foreign 
 and domestic policy issues, Native American and South American cultures, 
 and science and technology. Landau's most widely praised achievements are 
 the over forty films he has produced on social, political and historical 
 issues, and worldwide human rights.  His latest film is entitled “Syria: 
 Between Iraq and a Hard Place”  (2004).   We will also have musical 
 entertainment by PSR/Sacramento's own Lin and Steve Walker, two talented 
 and inspirational musicians.  We expect this year's event to sell out, so 
 please RSVP to reserve your seat.\n 
 https://www.indybay.org/newsitems/2005/09/29/76883.php
SUMMARY:PSR/Sacramento Second Annual Dinner
LOCATION:Sutter Buhler Building Auditorium  2800 L Street  Sacramento, CA  95814
URL:https://www.indybay.org/newsitems/2005/09/29/76883.php
DTSTART:20051030T013000Z
DTEND:20051030T043000Z
END:VEVENT
END:VCALENDAR
