BEGIN:VCALENDAR
VERSION:2.0
X-WR-CALNAME:www.indybay.org
PRODID:-//indybay/ical// v1.0//EN
BEGIN:VEVENT
UID:Indybay-76723
SEQUENCE:76723
CREATED:20050928T182000Z
DESCRIPTION:The Price of Oil: Remembering Ken Saro-Wiwa  10th Anniversary Tour  The 
 Price of Oil is a National Tour to remember the life and legacy of Ken 
 Saro-Wiwa. November 10, 2005 marks the Tenth Anniversary of the executions 
 of Ken Saro-Wiwa and eight colleagues – their only crime was organizing 
 against the pollution and repression of Shell and the Nigerian military.  
 Featuring Ken Wiwa,  Dr. Owens Wiwa, and other experts on the impact of 
 oil, The Price of Oil will bring attention to the Niger Delta peoples’ 
 struggle for justice, and the real “price of oil” we all pay. Includes 
 spoken word, testimonies, music, art and photos to inspire!  Thursday, 
 October 6th, Oakland, Malonga Arts Center, 6:30 - 8:30 pm,   1428 Alice 
 Street (formerly Alice Arts Center)  FEATURING: BOTH Ken & Owens Wiwa with 
 special dance & music performances  Ken Saro-Wiwa Memorial Exhibit,   
 September 15 –November 15   Thoreau Center Gallery,  Presidio of San 
 Francisco, Bldg 1014-1016  http://www.thoreau.org/Location/mapdir.html  
 Visit http://www.thepriceofoil.com to help plan Nov. 10 Day of Actions!  
 Stephanie Alston, Coordinator  The Price of Oil: Remembering Ken Saro-Wiwa  
 10th Anniversary Tour  c. 510-282-2374  \n 
 https://www.indybay.org/newsitems/2005/09/28/76723.php
SUMMARY:The Price of Oil: Remembering Ken Saro-Wiwa
LOCATION:Thursday, October 6th, Oakland, Malonga Arts Center, 6:30 - 8:30 pm,   1428 
 Alice Street (formerly Alice Arts Center)  
URL:https://www.indybay.org/newsitems/2005/09/28/76723.php
DTSTART:20051007T013000Z
DTEND:20051007T033000Z
END:VEVENT
END:VCALENDAR
