BEGIN:VCALENDAR
VERSION:2.0
X-WR-CALNAME:www.indybay.org
PRODID:-//indybay/ical// v1.0//EN
BEGIN:VEVENT
UID:Indybay-76403
SEQUENCE:76403
CREATED:20050923T213400Z
DESCRIPTION: 	    Redemption:The Stanley "Tookie" Williams Story      Presented along 
 with the Campaign to End the Death   Penalty and the Idriss Stelley 
 Foundation.      An innocent man on Death row, Stan has worked  tirelessly 
 to stop the gang violence that he was once a part of. For years, he has 
 spear-headed a crusade to steer children away from gangs by writing a 
 series of powerful anti-gang books.  For this,  he has earned worldwide 
 critical acclaim, as well as four Nobel Peace Prize nominations.  Come here 
 his story and find out what is going on te help save Stan's life.      
 Jamie Foxx gives a “career defining” performance   (DAILY VARIETY) as  
 Stan “Tookie” Williams, founder of the notorious Crips street gang in  
 this riveting true story. 2003, 93 minutes   $0 to $10 donation supports 
 the sponsoring   organizations      For more information:   War Resisters 
 League-West 	  wrlwest@riseup.net 	   415-282-6580  Campaign to End the 
 Death Penalty    jpsspaceandpolitics@riseup.net   (510) 978-3824  \n 
 https://www.indybay.org/newsitems/2005/09/23/76403.php
SUMMARY:WRL West Films and discussions: Redemption:The Stanley "Tookie" Williams Story
LOCATION:The Kitchen, 225 Potrero Ave., San Francisco     MUNI: 9, 19, 22, 27, 33, 
 53     Wheelchair Accessible; Drug and Alcohol Free Space     
URL:https://www.indybay.org/newsitems/2005/09/23/76403.php
DTSTART:20050930T020000Z
DTEND:20050930T040000Z
END:VEVENT
END:VCALENDAR
