BEGIN:VCALENDAR
VERSION:2.0
X-WR-CALNAME:www.indybay.org
PRODID:-//indybay/ical// v1.0//EN
BEGIN:VEVENT
UID:Indybay-76073
SEQUENCE:76073
CREATED:20050920T201400Z
DESCRIPTION:The North Beach *worker owned collective, The Lusty Lady Peep Show (proudly 
 lending men a hand against prostate cancer for four years...) is expanding. 
 Niche sex work: No physical, lots of eye contact. Audition to join the 
 Lusty Ladies,( or just have a good time pretending to) AMATEUR 
 NIGHT:THURSDAY 9/23. Call ahead, 391-3126 for info. and to schedule your 
 own personal (very personal...) 15 minutes of fame.  *Read about (or order) 
 the film, "LIVE NUDE GIRLS UNITE!", made for a labor film festival, 
 detailing the emergence of the union that became the collective owners of 
 the business.  http://www.livenudegirlsunite.com\n 
 https://www.indybay.org/newsitems/2005/09/20/76073.php
SUMMARY:AMATEUR NIGHT AT THE LUSTY LADY
LOCATION:LUSTY LADY THEATER, 1033 KEARNY ST. (BETWEEN COLUMBUS AND BROADWAY)
URL:https://www.indybay.org/newsitems/2005/09/20/76073.php
DTSTART:20050922T220000Z
DTEND:20050923T060000Z
END:VEVENT
END:VCALENDAR
