BEGIN:VCALENDAR
VERSION:2.0
X-WR-CALNAME:www.indybay.org
PRODID:-//indybay/ical// v1.0//EN
BEGIN:VEVENT
UID:Indybay-76063
SEQUENCE:76063
CREATED:20050920T185700Z
DESCRIPTION:FREE EVENT:  Nation’s Most Prestigious Environmental Award for Young 
 People to Honor Seven Inspiring Activists Ages 15-21      Julia Butterfly 
 Hill, Crown City Rockers and "Youth Speaks" to Host Brower Youth Award 
 Ceremony                 One girl in Texas founded an organization to 
 protest a nuclear waste facility at the age of 13.  Another, at the age of 
 17, started a wetlands rehabilitation project in her neighborhood in San 
 Francisco.  And a 15 year old boy from Florida is on a mission to save the 
 loggerhead sea turtles from extinction.   These are just three of the seven 
 incredible young activists from around the country who will receive a 2005 
 Brower Youth Award – the most prestigious award in the country for 
 leaders of tomorrow’s environmental and social justice movements.    \n 
 https://www.indybay.org/newsitems/2005/09/20/76063.php
SUMMARY:Brower Youth Awards
LOCATION:Calvin Simmons Auditorium, Henry J. Kaiser Convention Center  10 Tenth 
 Street - Oakland, CA  1 Block from Lake Merrit BART Station
URL:https://www.indybay.org/newsitems/2005/09/20/76063.php
DTSTART:20051001T010000Z
DTEND:20051001T040000Z
END:VEVENT
END:VCALENDAR
