BEGIN:VCALENDAR
VERSION:2.0
X-WR-CALNAME:www.indybay.org
PRODID:-//indybay/ical// v1.0//EN
BEGIN:VEVENT
UID:Indybay-75963
SEQUENCE:75963
CREATED:20050918T212300Z
DESCRIPTION:\n https://www.indybay.org/newsitems/2005/09/18/75963.php
SUMMARY:Katrina Surviviors Music
LOCATION:
URL:https://www.indybay.org/newsitems/2005/09/18/75963.php
DTSTART:20050918T190000Z
DTEND:20050918T200000Z
END:VEVENT
END:VCALENDAR
