BEGIN:VCALENDAR
VERSION:2.0
X-WR-CALNAME:www.indybay.org
PRODID:-//indybay/ical// v1.0//EN
BEGIN:VEVENT
UID:Indybay-75943
SEQUENCE:75943
CREATED:20050918T083800Z
DESCRIPTION:screwup has been hosting DIY (Do-It-Yourself) BDSM skill-shares each month 
 for over two years and the San Francisco Bay Guardian recently awarded 
 screwup Best of the Bay 2005 - Outsider Education.  The Big screwup Folsom 
 Party is a BDSM play party for transgender folks, queers, genderqueers, and 
 our friends and allies of all genders. All ages, all races, all kinds of 
 folks welcome. If you think a diverse play space where all sorts of 
 genders, bodies, sex-styles and play styles are welcomed and celebrated 
 sounds hot, then this is the party for you!  There is a suggested donation 
 of $5-15, but no one should feel uncomfortable coming in free since no-one 
 will be unwelcome due to lack of funds. we'd rather have you and your sexy 
 fun energy than worry bout money. all the funds go to reimburse the screwup 
 folks who dug deep into their pockets to make this happen. any extra will 
 be decided upon publicly.  The restrooms are gender neutral for the night.  
 There's no drugs or alcohol or smoking in the building.  If you have 
 accessibility needs, we would like to speak with you (we are really working 
 on making this party as accessible to everyone) – please contact 
 rsvp@screwup.info or call 415-820-3991  If yer thinking of coming we'd 
 really like you to RSVP so we can know how much food and other stuff to 
 get.  rsvp@screwup.info or call 415-820-3991 and leave message  
 volunteers@screwup.info to volunteer.  \n 
 https://www.indybay.org/newsitems/2005/09/18/75943.php
SUMMARY:SCREWUP's BIG FOLSOM PARTY
LOCATION:Center For Sex And Culture  398 11th Street (at Harrison) 2nd Floor
URL:https://www.indybay.org/newsitems/2005/09/18/75943.php
DTSTART:20050925T030000Z
DTEND:20050925T090000Z
END:VEVENT
END:VCALENDAR
