BEGIN:VCALENDAR
VERSION:2.0
X-WR-CALNAME:www.indybay.org
PRODID:-//indybay/ical// v1.0//EN
BEGIN:VEVENT
UID:Indybay-75843
SEQUENCE:75843
CREATED:20050916T214100Z
DESCRIPTION:Who: Gerd Ludwig, award-winning National Geographic photographer 
 (1989-present); veteran photographer of Life's renowned A Day in the Life 
 book series; his work has appeared in Fortune, Time, Spiegel, Stern, and 
 Geo  Event: Meet the Photographer. Join us for a dazzling photographic 
 journey across all seven continents with National Geographic's veteran 
 photographer Gerd Ludwig. His visual presentation, based on the National 
 Geographic’s new book Wide Angle, showcases the work of 120 National 
 Geographic photographers who have documented the world- landscapes, 
 cityscapes, familiar views and remote vistas- in glorious detail over the 
 past century.    When: Tues., 10/25 ; check-in: 5:30 PM, program: 6:00 PM  
 Where: World Affairs Council, 312 Sutter St., 2nd Floor Conference Room, 
 San Francisco  Admission Costs: Members: FREE; Students w/ ID: $5; 
 Non-members: $15; Co-sponsors: $7  Info: (415) 293-4600, 
 http://www.itsyourworld.org  \n 
 https://www.indybay.org/newsitems/2005/09/16/75843.php
SUMMARY:“Wide Angle:  National Geographic Greatest Places”
LOCATION:The Council
URL:https://www.indybay.org/newsitems/2005/09/16/75843.php
DTSTART:20051026T003000Z
DTEND:20051026T023000Z
END:VEVENT
END:VCALENDAR
