BEGIN:VCALENDAR
VERSION:2.0
X-WR-CALNAME:www.indybay.org
PRODID:-//indybay/ical// v1.0//EN
BEGIN:VEVENT
UID:Indybay-75363
SEQUENCE:75363
CREATED:20050911T232400Z
DESCRIPTION:  George Galloway in San Francisco, CA  Wednesday, September 21, 7pm  
 George Galloway, MP, speaking with  Aimee Allison, conscientious objector 
 to First Gulf War 1991, leading counselor for GI's who refuse to fight, 
 Green Party candidate for Oakland City Council District 2  Dr. Jess 
 Ghannam, National Council of Arab Americans  Todd Chretien, College Not 
 Combat - Yes on Proposition I campaign  Mission High School  3750 18th 
 Street (at the corner of Dolores)  Co-sponsored by: Flashpoints Radio, KPFA 
 94.1, Justice in Palestine Coalition  Call 415-607-1924 or email 
 galloway2005@comcast.net for info  Tickets: $10 to $20 at the door or in 
 advance available through:  * Cody's  * Modern Times Books  * 
 http://www.ticketweb.com  http://www.arabtalkradio.com\n 
 https://www.indybay.org/newsitems/2005/09/11/75363.php
SUMMARY:George Galloway Speaking in San Francisco
LOCATION:printable version  - email this article  George Galloway Coming to San 
 Francisco: Interveiw with Sue Sandlin  by Arab Talk Radio Sunday, Sep. 11, 
 2005 at 4:22 PM  arabtalkradio@gmail.com      This is an interview with Sue 
 Sandlin, the Bay Area Coordinator for the George Galloway Tour. George 
 Galloway will be coming to San Francisco on September 21st, 7pm Mission 
 High School. More details at http://www.mrgallowaygoesto washington.com  
 audio: MP3 at 11.6 mebibytes          (download torrent)  George Galloway 
 in San Francisco, CA  Wednesday, September 21, 7pm  George Galloway, MP, 
 speaking with  Aimee Allison, conscientious objector to First Gulf War 
 1991, leading counselor for GI's who refuse to fight, Green Party candidate 
 for Oakland City Council District 2  Dr. Jess Ghannam, National Council of 
 Arab Americans  Todd Chretien, College Not Combat - Yes on Proposition I 
 campaign  Mission High School  3750 18th Street (at the corner of Dolores)  
 Co-sponsored by: Flashpoints Radio, KPFA 94.1, Justice in Palestine 
 Coalition  Call 415-607-1924 or email galloway2005@comcast.net for info  
 Tickets: $10 to $20 at the door or in advance available through:  * Cody's  
 * Modern Times Books  * http://www.ticketweb.com  
 http://www.arabtalkradio.com
URL:https://www.indybay.org/newsitems/2005/09/11/75363.php
DTSTART:20050922T020000Z
DTEND:20050922T040000Z
END:VEVENT
END:VCALENDAR
