BEGIN:VCALENDAR
VERSION:2.0
X-WR-CALNAME:www.indybay.org
PRODID:-//indybay/ical// v1.0//EN
BEGIN:VEVENT
UID:Indybay-74963
SEQUENCE:74963
CREATED:20050906T042800Z
DESCRIPTION:"Elections in Crisis!"  "Who's Cheating and What We Can Do About It"  
 Auditing Election Tutorial with Bev Harris, BlackBoxVoting.org  details at: 
  http://election-reform.us/teachins/grand_lake.html  (Disclaimer: The 
 Oakland Public Library does not advocate or endorse the viewpoints of 
 meetings or meeting room users.) \n 
 https://www.indybay.org/newsitems/2005/09/05/74963.php
SUMMARY:Elections in Crisis - Election Auditing Workshop with Bev Harris
LOCATION:Rockridge Branch, Oakland Public Library, College and Manila in Oakland  A 
 quarter mile south on College Ave from Rockridge BART
URL:https://www.indybay.org/newsitems/2005/09/05/74963.php
DTSTART:20050914T173000Z
DTEND:20050914T203000Z
END:VEVENT
END:VCALENDAR
