BEGIN:VCALENDAR
VERSION:2.0
X-WR-CALNAME:www.indybay.org
PRODID:-//indybay/ical// v1.0//EN
BEGIN:VEVENT
UID:Indybay-74653
SEQUENCE:74653
CREATED:20050903T004600Z
DESCRIPTION:  Join us for a rally at the Federal Courts!     The issue of lack of 
 agency jurisdiction has been filed in our Northern  California federal 
 district court as well in our Ninth Circuit Court of Appeals  in two 
 marijuana cases.  Of the more than 60 California patients facing federal  
 prison, some are filing similar motions.  So far our US DOJ  has failed to  
 respond and our judges have failed to rule on this issue, systematically 
 denying  We the People our right to the due process of law.    September 
 12, 2005, 11:30 am Gather at Federal Building, 450 Golden Gate Avenue,  San 
 Francisco and then Walk to our 9th Circuit Court of Appeals at 7th & 
 Mission    To protest this cover-up of lack of agency jurisdiction, tell 
 others and support  the rally.    http://www.commonsenselaw.com for updates 
 or call Keith Alden at (707) 838-2881\n 
 https://www.indybay.org/newsitems/2005/09/02/74653.php
SUMMARY:Federal Rally at SF District Court - march to 9th Circuit
LOCATION:  September 12, 2005, 11:30 am Gather at Federal Building, 450 Golden Gate 
 Avenue,  San Francisco and then Walk to our 9th Circuit Court of Appeals at 
 7th & Mission
URL:https://www.indybay.org/newsitems/2005/09/02/74653.php
DTSTART:20050912T183000Z
DTEND:20050912T203000Z
END:VEVENT
END:VCALENDAR
