BEGIN:VCALENDAR
VERSION:2.0
X-WR-CALNAME:www.indybay.org
PRODID:-//indybay/ical// v1.0//EN
BEGIN:VEVENT
UID:Indybay-74553
SEQUENCE:74553
CREATED:20050901T234200Z
DESCRIPTION:George Galloway will speak about Iraq.  
 http://www.mrgallowaygoestowashington.com\n 
 https://www.indybay.org/newsitems/2005/09/01/74553.php
SUMMARY:George Galloway in SF 9/21
LOCATION:Mission High School  3750 18th Street
URL:https://www.indybay.org/newsitems/2005/09/01/74553.php
DTSTART:20050922T020000Z
DTEND:20050922T040000Z
END:VEVENT
END:VCALENDAR
