BEGIN:VCALENDAR
VERSION:2.0
X-WR-CALNAME:www.indybay.org
PRODID:-//indybay/ical// v1.0//EN
BEGIN:VEVENT
UID:Indybay-74513
SEQUENCE:74513
CREATED:20050905T214100Z
DESCRIPTION:Low-cost, woman-friendly job and resource fair for those seeking careers in 
 the non-profit, political and governmental sectors. Featured speakers 
 include Lateefah Simon (Center for Young Women's Development) and Debbie 
 Mesloh (SF DA;s Office). All are welcome. $5 donation requested -- includes 
 light breakfast. Bring a bag lunch & learn how to Get Your Foot in the 
 Door! Sponsored by the National Women's Political Caucus, San Francisco. 
 RSVP to nwpcsf@yahoo.com.\n 
 https://www.indybay.org/newsitems/2005/09/05/74513.php
SUMMARY:Get Your Foot in the Door with the NWPC-SF
LOCATION:LGBT Center  1800 Market Street  San Francisco, CA 94112
URL:https://www.indybay.org/newsitems/2005/09/05/74513.php
DTSTART:20050917T170000Z
DTEND:20050917T200000Z
END:VEVENT
END:VCALENDAR
