BEGIN:VCALENDAR
VERSION:2.0
X-WR-CALNAME:www.indybay.org
PRODID:-//indybay/ical// v1.0//EN
BEGIN:VEVENT
UID:Indybay-74363
SEQUENCE:74363
CREATED:20050829T042500Z
DESCRIPTION:Mark Gunnery and Ryan Harvey (both from the Riot-Folk Collective) will be 
 playing radical folk tunes monday at the Long Haul Infoshop. Riot-Folk is 
 an anti-profit radical folk music collective thats focusses on instigating 
 activism and action through music.  *Monday (Aug 29th)  *6:00-9:00 pm  
 *FREE  See http://www.riotfolk.org for free downloads, lyrics, and info!\n 
 https://www.indybay.org/newsitems/2005/08/28/74363.php
SUMMARY:Anarchist Folk Music at Long Haul
LOCATION:*Long Haul is at 3124 Shattuck Ave. (2 blocks from Ashby BART, Across from 
 La Peña Cultural Center)for free downloads, lyrics, and info!
URL:https://www.indybay.org/newsitems/2005/08/28/74363.php
DTSTART:20050830T010000Z
DTEND:20050830T030000Z
END:VEVENT
END:VCALENDAR
