BEGIN:VCALENDAR
VERSION:2.0
X-WR-CALNAME:www.indybay.org
PRODID:-//indybay/ical// v1.0//EN
BEGIN:VEVENT
UID:Indybay-73933
SEQUENCE:73933
CREATED:20050819T205300Z
DESCRIPTION:Who: Young Professionals International Forum  What: Annual Picnic  Event: 
 Spend a summer’s day enjoying games, entertainment, and a variety of 
 barbeque and picnic delights. Our new picnic site, West Fort Miley (a 
 secluded grassy area located on the north-western tip of the San Francisco 
 peninsula near the Cliff House), offers wonderful views of the Pacific 
 Ocean, Sutro Heights Park, and Ocean Beach. Vegetarians, we won’t forget 
 you! Bring your friends and family, children included, and mingle with 
 others who share an active interest in the world around them.  When: Sat., 
 Sept. 24; 11:00 AM to 4:00 PM  Where: West Fort Miley Picnic Area (visit 
 http://www.nps.gov/goga/spug/picnic/p_wfmi.htm for more information, 
 including directions, parking, and public transportation)  Admission Costs: 
 Before 5:00 PM September 23: Members: $12, Nonmembers: $14  After 5:00 PM 
 September 23: Members and Nonmembers: $16; Children under 12: Free  Info: 
 (415) 293-4600, http://www.itsyourworld.org  \n 
 https://www.indybay.org/newsitems/2005/08/19/73933.php
SUMMARY:Young Professionals International Forum Annual Picnic
LOCATION:West Fort Miley Picnic Area (visit 
 http://www.nps.gov/goga/spug/picnic/p_wfmi.htm for more information, 
 including directions, parking, and public transportation)
URL:https://www.indybay.org/newsitems/2005/08/19/73933.php
DTSTART:20050924T180000Z
DTEND:20050924T220000Z
END:VEVENT
END:VCALENDAR
