BEGIN:VCALENDAR
VERSION:2.0
X-WR-CALNAME:www.indybay.org
PRODID:-//indybay/ical// v1.0//EN
BEGIN:VEVENT
UID:Indybay-73913
SEQUENCE:73913
CREATED:20050819T202400Z
DESCRIPTION:Who: James F. Hoge Jr., Editor of Foreign Affairs; Dan Yankelovich, 
 Chairman of Public Agenda  What: Lecture/Discussion. “Are We Doing the 
 Right Thing? Public Perceptions of US Foreign Policy”   Event: Which 
 international issues weigh most heavily on the minds of the American 
 public? Foreign Affairs and Public Agenda unveil a "Public Agenda 
 Confidence in U.S. Foreign Policy Index" to help leaders look beyond the 
 ups-and-downs of weekly polls and to provide on-going assessments of the 
 public’s confidence in this nation’s role in global affairs.    When: 
 Weds., Sept. 21; Check in: 5:30 PM; Program: 6:00 PM  Where: The San 
 Francisco City Club, 155 Sansome Street, 10th Floor, San Francisco  
 Admission Costs: Tickets: World Affairs Council, Council on Foreign 
 Relations, and City Club Members: Free; Nonmembers $15  Info: (415) 
 293-4600, http://www.itsyourworld.org  \n 
 https://www.indybay.org/newsitems/2005/08/19/73913.php
SUMMARY:“Are We Doing the Right Thing? Public Perceptions of US Foreign Policy”
LOCATION:155 Sansome Street, 10th Floor, San Francisco
URL:https://www.indybay.org/newsitems/2005/08/19/73913.php
DTSTART:20050922T003000Z
DTEND:20050922T023000Z
END:VEVENT
END:VCALENDAR
