BEGIN:VCALENDAR
VERSION:2.0
X-WR-CALNAME:www.indybay.org
PRODID:-//indybay/ical// v1.0//EN
BEGIN:VEVENT
UID:Indybay-73733
SEQUENCE:73733
CREATED:20050818T194000Z
DESCRIPTION:Saturday, Sept. 24 \nNational Anti-War March in San Francisco\nGather 11am 
 Dolores Park at 19th and Dolores St.\nmarch to Jefferson Square Park to 
 follow\n\nStop the War in Iraq! \nEnd Colonial Occupation: Iraq, Palestine, 
 Haiti …\nBring the Troops Home Now!\n\nJoin us in the streets Sept. 24 as 
 hundreds of thousands march against the war. Visit www.ANSWERCoalition.org 
 for more info and transportation from your area.\nCall 415-821-6545 or 
 email answer@actionsf.org for more info or to volunteer. \n\n\n 
 https://www.indybay.org/newsitems/2005/08/18/73733.php
SUMMARY:Anti-War March: Stop the War on Iraq! End Occupation from Iraq, Palestine, H
LOCATION:gather 11am Dolores Park  at 19th and Dolores  near the 16th St. BART 
 station
URL:https://www.indybay.org/newsitems/2005/08/18/73733.php
DTSTART:20050924T180000Z
DTEND:20050924T230000Z
END:VEVENT
END:VCALENDAR
