BEGIN:VCALENDAR
VERSION:2.0
X-WR-CALNAME:www.indybay.org
PRODID:-//indybay/ical// v1.0//EN
BEGIN:VEVENT
UID:Indybay-73333
SEQUENCE:73333
CREATED:20050812T193900Z
DESCRIPTION:Day Seven, Camp Casey  Most of us can't make the trek to Crawford, but we 
 can show her how much we love and support her!  \n 
 https://www.indybay.org/newsitems/2005/08/12/73333.php
SUMMARY:Support Cindy Sheehan!
LOCATION:Powell & Market
URL:https://www.indybay.org/newsitems/2005/08/12/73333.php
DTSTART:20050813T000000Z
DTEND:20050813T010000Z
END:VEVENT
END:VCALENDAR
