BEGIN:VCALENDAR
VERSION:2.0
X-WR-CALNAME:www.indybay.org
PRODID:-//indybay/ical// v1.0//EN
BEGIN:VEVENT
UID:Indybay-73253
SEQUENCE:73253
CREATED:20050811T200700Z
DESCRIPTION:You need to know how Peak Oil will affect you! Peak Oil is not about the 
 end of oil; it is about the end of CHEAP oil! Please join us for discussion 
 about Peak Oil and how it will affect the cities of the Santa Clara valley. 
   We meet the 1st and 3rd Wednesdays of each month from 7:00-9:00pm.  We 
 provide an opportunity for newcomers to view "The End of Suburbia" video.  
 For more info and our meeting agenda, check out:  
 http://postcarbon.org/wiki/index.php/PostCarbonSantaClaraValley  Hope to 
 see you there! \n https://www.indybay.org/newsitems/2005/08/11/73253.php
SUMMARY:Santa Clara Valley Peak Oil Meetings
LOCATION:St. Lawrence Academy  2000 Lawrence Ct  Santa Clara, CA
URL:https://www.indybay.org/newsitems/2005/08/11/73253.php
DTSTART:20050818T020000Z
DTEND:20050818T040000Z
END:VEVENT
END:VCALENDAR
