BEGIN:VCALENDAR
VERSION:2.0
X-WR-CALNAME:www.indybay.org
PRODID:-//indybay/ical// v1.0//EN
BEGIN:VEVENT
UID:Indybay-73243
SEQUENCE:73243
CREATED:20050811T171000Z
DESCRIPTION:Where Queers, Freaks and Divas feel at home....           Living Room  
 Celebrates                  Black August          "...a month of meaning, 
 of repression, and radical resistance, of  injustice and divine justice..." 
                                          - (Mumia Abu Jamal)  Friday    
 August 12th  10pm -  3 am  live performance:  Persia (The Mamaz)  Serafine  
 Nappy Grooves  Sunru Skywalker  bringing the best out the west in    * Hip 
 Hop *     *  Soulful House *     *  Drum & Bass  *      *  Old  School   *  
 residents   LP  Trinity  Black  Discovery  and special guest  Sake One 
 (Local 1200)    on the walls:  Selam, JBRap, Bushmama    local venders 
 marketplace :  dis-scent: the essence of revolution  Roots and Rhythm 
 exotic incense fragrances  21 & over  free  b4 11: 00 pm if you email: 
 trinitywolf@riseup.net  or bring flyer  $ 8  after  Oakland Noodle Factory  
 1255 26th St. @ Union  West Oakland ,  94607  for vending and more 
 info:(510) 595-5526  \n 
 https://www.indybay.org/newsitems/2005/08/11/73243.php
SUMMARY:Black August at Living Room
LOCATION:Oakland Noodle Factory  1255 26th St. (at Union)  Oakland, CA 94607
URL:https://www.indybay.org/newsitems/2005/08/11/73243.php
DTSTART:20050813T050000Z
DTEND:20050813T100000Z
END:VEVENT
END:VCALENDAR
