BEGIN:VCALENDAR
VERSION:2.0
X-WR-CALNAME:www.indybay.org
PRODID:-//indybay/ical// v1.0//EN
BEGIN:VEVENT
UID:Indybay-7313
SEQUENCE:7313
CREATED:20040203T182400Z
DESCRIPTION:Two Gallants, Folie A Dieux, Full Moon Partisans, Galaxy All-Stars and 
 Crimeny performing live at Mission Badlands to raise some short-notice cash 
 for SFIndyMedia.  Art, drinks, $5 cover.  Got art you want on the walls?  
 Call Sunny at 415-422-5876.  Please come out and support an organization 
 that has continued to give back to the community, even on a tight budget.  
 Peace.\n https://www.indybay.org/newsitems/2004/02/03/7313.php
SUMMARY:BENEFIT for SFIndyMedia!!!!
LOCATION:2811 Mission Street /@ 24th\nBalazo Gallery/Mission Badlands, next to 
 McDonald's
URL:https://www.indybay.org/newsitems/2004/02/03/7313.php
DTSTART:20020513T030000Z
DTEND:20020513T020000Z
END:VEVENT
END:VCALENDAR
