BEGIN:VCALENDAR
VERSION:2.0
X-WR-CALNAME:www.indybay.org
PRODID:-//indybay/ical// v1.0//EN
BEGIN:VEVENT
UID:Indybay-73003
SEQUENCE:73003
CREATED:20050806T021600Z
DESCRIPTION:   BERKELEY Really Really FREE MARKET  (First Saturday of every month)  
 august 6  noon to 4  next to the Berkeley farmer's market  in MLK park  
 martin luther king way and allston way  the idea is to give and receive 
 without money  bring stuff you want to give  Talents: juggling, poetry, 
 music, contact improv, capoeira, bodywork, art, t-shirt making, 
 freestyling,  martian psychic past-life restoration and remodeling  Stuff: 
 all that stuff that’s still cool but you don’t need: clothes, toys, 
 working electric stuff, your old jaguar, etc. Skip the tedious garage sale, 
 come and enjoy giving it away.  come to give and enjoy giving,  and/or  
 come to receive and find cool stuff free  and give people the joy of giving 
  three (count ‘em, three) guidelines:  1) If you bring stuff, and no one 
 takes it, take it home with you. Leave no trace  2) Keep the non-money 
 spirit of the event by not taking stuff to sell  3) If you bring stuff, and 
 no one takes it, take it home with you. Leave no  trace\n 
 https://www.indybay.org/newsitems/2005/08/05/73003.php
SUMMARY:berkeley (really really ) free market
LOCATION:mlk park, next to saturday berkeley farmer's market, 2 blocks from berkeley 
 bart.  allston way and martin luther king way  berkeley
URL:https://www.indybay.org/newsitems/2005/08/05/73003.php
DTSTART:20050806T190000Z
DTEND:20050806T230000Z
END:VEVENT
END:VCALENDAR
