BEGIN:VCALENDAR
VERSION:2.0
X-WR-CALNAME:www.indybay.org
PRODID:-//indybay/ical// v1.0//EN
BEGIN:VEVENT
UID:Indybay-72843
SEQUENCE:72843
CREATED:20050804T061600Z
DESCRIPTION:Hands Off Venezuela in the San Francisco Bay Area is part of a relatively 
 new national campaign, and joins with activists from Minneapolis, Boston, 
 Miami, and Seattle, St. Louis, Fargo, and Providence, and others. HOV is 
 also part of an international campaign,  based in London, England, to build 
 a worldwide campaign in defense of Venezuela against U.S. interference and 
 aggression.  \n\nWe cannot stop U.S. intervention by words alone, but only 
 by the action of the people of the United States, and they cannot take 
 action without knowledge.  That is why we are calling on all freedom loving 
 people in the U.S. to help us bring the truth about Venezuela to this 
 country by bringing here one of its most important trade union leaders, 
 Stalin Perez Borges.\n\nwww.ushov.org\n 
 https://www.indybay.org/newsitems/2005/08/03/72843.php
SUMMARY:Hands Off Venezuela!
LOCATION:Center for Political Education  Third Floor Auditorum  522 Valencia Street  
 San Francisco
URL:https://www.indybay.org/newsitems/2005/08/03/72843.php
DTSTART:20050819T020000Z
DTEND:20050819T040000Z
END:VEVENT
END:VCALENDAR
