BEGIN:VCALENDAR
VERSION:2.0
X-WR-CALNAME:www.indybay.org
PRODID:-//indybay/ical// v1.0//EN
BEGIN:VEVENT
UID:Indybay-72563
SEQUENCE:72563
CREATED:20050803T220400Z
DESCRIPTION:Design a Bay-Friendly Garden that meets your needs. Landscape designers 
 will be on hand to advise and troubleshoot. Attendance at the Bay-Friendly 
 Gardening Basics class is a prerequisite. Some advance homework required. 
 Registration required.	  For more information, contact 
 http://www.BayFriendly.org.  Bay-Friendly Gardening is a program of 
 StopWaste.Org, a public agency dedicated to reducing the waste stream in 
 Alameda County. \n https://www.indybay.org/newsitems/2005/08/03/72563.php
SUMMARY:Design a Bay-Friendly Garden
LOCATION:Navlet’s Garden Center  46100 Warm Springs Blvd., Fremont  
URL:https://www.indybay.org/newsitems/2005/08/03/72563.php
DTSTART:20051022T170000Z
DTEND:20051022T200000Z
END:VEVENT
END:VCALENDAR
