BEGIN:VCALENDAR
VERSION:2.0
X-WR-CALNAME:www.indybay.org
PRODID:-//indybay/ical// v1.0//EN
BEGIN:VEVENT
UID:Indybay-72363
SEQUENCE:72363
CREATED:20050803T013900Z
DESCRIPTION:The SF Bay Area Independent Media Center and AK Press present:  
 Reportback/Video Screening: G8 Protests in Scotland and San Francisco (and 
 other places, if you tell us about video). Late night shenanigans, conflict 
 and solidarity with locals  ---  K Press will be holding an open house - 
 you can peruse and purchase their books, audio, video, and clothing before, 
 during, and after the show.  We'll be showing:  -local stuff  -black bloc 
 in Scotland  -police bloopers  -and more  requested donation $5-10 sliding 
 scale, to benefit Indybay and our local legal support collective  contact 
 mahtin at riseup.net if you have video that you would like to show (cd/dvd 
 or downloadable from web) or if you would like to report about your 
 experiences at either of these protests  DIRECTIONS: We are conveniently 
 located near all major East Bay freeways and bus lines, and are just a 
 short (
SUMMARY:Indybay Benefit: G8 Video Screening and Reportback
LOCATION: AK Press Warehouse  674 23rd Street  West Oakland near downtown, between 
 Martin Luther King and San Pablo Blvd., one short block north of West Grand 
 Ave. 
URL:https://www.indybay.org/newsitems/2005/08/02/72363.php
DTSTART:20050807T020000Z
DTEND:20050807T040000Z
END:VEVENT
END:VCALENDAR
