BEGIN:VCALENDAR
VERSION:2.0
X-WR-CALNAME:www.indybay.org
PRODID:-//indybay/ical// v1.0//EN
BEGIN:VEVENT
UID:Indybay-7233
SEQUENCE:7233
CREATED:20040203T182500Z
DESCRIPTION:Riva Enteen of the National Lawyers Guild will present on the USA Patriot 
 Act and current civil rights abuses by the FBI.  Plus presentations by 
 organizations working to oppose the current targeting of Arab and South 
 Asian communities and an update on the week in court in the Judi Bari 
 lawsuit.   \nAnd great folk music by Dana Lyons.\n\n 
 https://www.indybay.org/newsitems/2004/02/03/7233.php
SUMMARY:Ashcroft Attack on Civil Liberties: What we can do to stop it!
LOCATION:La Pena, 3105 Shattuck Ave, Berkeley 
URL:https://www.indybay.org/newsitems/2004/02/03/7233.php
DTSTART:20020517T020000Z
DTEND:20020517T040000Z
END:VEVENT
END:VCALENDAR
