BEGIN:VCALENDAR
VERSION:2.0
X-WR-CALNAME:www.indybay.org
PRODID:-//indybay/ical// v1.0//EN
BEGIN:VEVENT
UID:Indybay-7213
SEQUENCE:7213
CREATED:20040203T182400Z
DESCRIPTION:Pacifica Now! \n \nNew Programming for a New Pacifica: What's the Mission 
 Got to Do With It?\n \n7:00 pm, Tuesday May 7th\nNew College of California, 
 777 Valencia, S.F\nFree admission, donations requested (passing a 
 hat).\n\nSpeakers include:\n \nCarol Spooner, Interim Pacifica National 
 Board Secretary\n \nWillie Thompson, KPFA Program Council Community 
 Representative\n \nJim Bennett, KPFA Interim General Manager\n \nThe 
 Pacifica Now! series includes weekly classes and a conference to\nengage a 
 long-term discussion of the key underlying social-philosophical\nchallenges 
 facing the network and the movement. Classes are held on\nconsecutive 
 Tuesdays through June 11 at New College of California, 777\nValencia, San 
 Francisco. The conference takes place June 18th-21st at New\nCollege. 
 Wheelchair accessible. For more information, contact:\n510-527-1884 or 
 http://www.newcollegenews.net/cesocialchange.html.\n\n###\n\n 
 https://www.indybay.org/newsitems/2004/02/03/7213.php
SUMMARY:Pacifica Now!  With Carol Spooner, Willie Thompson & Jim Bennett
LOCATION:New College of California\n777 Valencia Street, S.F
URL:https://www.indybay.org/newsitems/2004/02/03/7213.php
DTSTART:20020508T020000Z
DTEND:20020508T040000Z
END:VEVENT
END:VCALENDAR
