BEGIN:VCALENDAR
VERSION:2.0
X-WR-CALNAME:www.indybay.org
PRODID:-//indybay/ical// v1.0//EN
BEGIN:VEVENT
UID:Indybay-71823
SEQUENCE:71823
CREATED:20050723T214200Z
DESCRIPTION:The chickens desperately need our help to educate the public until KFC 
 agrees to change. Posters and leaflets provided.\n 
 https://www.indybay.org/newsitems/2005/07/23/71823.php
SUMMARY:San Jose KFC Protest
LOCATION:KFC 250 North Bascom, San Jose 95126 (corner of No.Bascom and Naglee)
URL:https://www.indybay.org/newsitems/2005/07/23/71823.php
DTSTART:20050806T190000Z
DTEND:20050806T200000Z
END:VEVENT
END:VCALENDAR
