BEGIN:VCALENDAR
VERSION:2.0
X-WR-CALNAME:www.indybay.org
PRODID:-//indybay/ical// v1.0//EN
BEGIN:VEVENT
UID:Indybay-70853
SEQUENCE:70853
CREATED:20050706T045500Z
DESCRIPTION:Ringling Bros. Circus will return to the Bay Area August 17 through 
 September 5.  Please join us to educate circus patrons about the cruelty of 
 using animals in the circus.  LEAFLETING TIMES AT RINGLING BROS. CIRCUS 
 (NOT SHOW TIMES)  For more information visit:  
 http://www.indybay.org/news/2005/07/1751059.php \n 
 https://www.indybay.org/newsitems/2005/07/05/70853.php
SUMMARY:Ringling Bros Circus Leafleting
LOCATION:SAN JOSE ARENA - Autumn & Santa Clara St. in San Jose    
URL:https://www.indybay.org/newsitems/2005/07/05/70853.php
DTSTART:20050828T223000Z
DTEND:20050828T233000Z
END:VEVENT
END:VCALENDAR
