BEGIN:VCALENDAR
VERSION:2.0
X-WR-CALNAME:www.indybay.org
PRODID:-//indybay/ical// v1.0//EN
BEGIN:VEVENT
UID:Indybay-7083
SEQUENCE:7083
CREATED:20040203T182500Z
DESCRIPTION:An award winning documentary by first time director Kevin Epps, Straight 
 Outta Hunters Point explores a ghetto community plagued by drugs and 
 violence, where the youth cling to fantasies of rap stardom, while their 
 elders are aghast at the overwhelming violence and killings. The film is a 
 stark portrait of life in the Bayview/ Hunters Point section of San 
 Francisco. A neighborhood that has been environmentally sacrificed and 
 economically redlined out of the opportunities and prosperity of one of the 
 world's wealthiest cities.\n\nS.O.H.P will be screening each night for a 
 full week at 9:15 p.m in Berkeley\nbeginning Friday May 10th - 17th at The 
 Fine Arts Cinema. This is also a\ngood time to visit the Fine Arts Cinema 
 before it closes in June for a\nconstruction project that will darken the 
 theater until 2004.\n\nThe film will also show again at San Francisco's Red 
 Vic Moviehouse May\n23rd - 27th and for one showing in San Rafael's Film 
 Center on May 29th.\nDirector Kevin Epps will appear at selected screenings 
 including the May 2nd\nPress Screening @ 2 p.m in Berkeley and on KPIX News 
 this evening ( April\n30) at 11 p.m.\n\nPlease contact us at 
 info@MastaMind.com for more info\n\nvisit the website @ 
 http://www.MastaMind.com to see the online trailer, read\nup on the 
 project, the community and sample the soundtrack featuring over a dozen of 
 the Bay Area's raw underground hip hop artists.\n\nThank You For Your 
 Time...\n https://www.indybay.org/newsitems/2004/02/03/7083.php
SUMMARY:SOHP -Hardcore Hip Hop Documentary
LOCATION:Fine Arts Cinema
URL:https://www.indybay.org/newsitems/2004/02/03/7083.php
DTSTART:20020518T040000Z
DTEND:20020518T050000Z
END:VEVENT
END:VCALENDAR
