BEGIN:VCALENDAR
VERSION:2.0
X-WR-CALNAME:www.indybay.org
PRODID:-//indybay/ical// v1.0//EN
BEGIN:VEVENT
UID:Indybay-69793
SEQUENCE:69793
CREATED:20050622T064400Z
DESCRIPTION:(Dr. Bowman spoke at the Toronto Int'l Citizens Inquiry into 9-11 and was 
 featured in the film- The Great Conspiracy- The 9-11 News Special You Never 
 Saw.)  Dr. Bowman, Lt. Col, USAF, ret. is President for the institute for 
 Space and Security Studies and directed all the "Star Wars" programs under 
 Presidents Ford and carter (when the existence of these programs was 
 sercret). Among other honors, Dr. Bowman is the recipient of the Eisenhower 
 Medal, the George F. Kennan Peace Prize, and the President's Medal of 
 Veteran's for Peace. He holds a Ph.D. in Aeronautics and Nuclear 
 Engineering from Caltech.  Suggested donation at the door $10. No one 
 turned away for lack of funds.   Sponsors: American Friends Service 
 Committee and Western States Legal Foundation   San Francisco Friends 
 Meeting is located between Market and Mission, near the Civic Center BART 
 and MUNI stop.   \n https://www.indybay.org/newsitems/2005/06/21/69793.php
SUMMARY:Security & Patriotism: The Challenge of WMDs and Terrorism
LOCATION:San Francisco Friends Meeting  65 Ninth Street  San Francisco
URL:https://www.indybay.org/newsitems/2005/06/21/69793.php
DTSTART:20050626T020000Z
DTEND:20050626T040000Z
END:VEVENT
END:VCALENDAR
