BEGIN:VCALENDAR
VERSION:2.0
X-WR-CALNAME:www.indybay.org
PRODID:-//indybay/ical// v1.0//EN
BEGIN:VEVENT
UID:Indybay-6933
SEQUENCE:6933
CREATED:20040203T182400Z
DESCRIPTION:Come and hear a talk and participate in a debate about the possibility 
 of\nrevolution in the USA.\n\nThe brutality of the "war on terrorism" has 
 become all too apparent.\nCivilians in Afghanistan and Palestine have been 
 massacred by US made\narmaments, people in Iraq, Colombia, the Philippines 
 and  elsewhere await a\nsimilar onslaught. At home the constitution has 
 been thrown away, along with\nenvironmental, and anti-nuclear treaties. 
 People are being rounded up on the\nbasis of ethnic background and held for 
 months - without trial or\nprosecution.\n\nThis has led many Americans to 
 start asking questions about what they can do\nto make this world a better 
 place.  What is the alternative to a "war on\nterrorism"?  Politicians 
 speak cynically of making "realistic" reforms,\nwhile they slash social 
 spending on health, education and welfare.\nSocialists have a different 
 view of what is realistic.  Socialists believe\nthat another world is 
 possible, one which is driven by the needs of the\npeople not the demand 
 for profit.\n\nBut this world won't come about easily,  those who currently 
 hold power in\nour society have proved that they will not abandon it 
 without a fight. And\nthey weild a lot of force - the US has the largest 
 military in the world.\nHow in the face of these obstacles can a revolution 
 in the US be possible?\nIn a world in which 6 million children die every 
 year of malnutrition and in\na country where at least 12 percent of the 
 people live below the poverty\nline, this is a crucial question.\n\nThis 
 event is sponsored by the International Socialist 
 Organization\n\nwww.internationalsocialist.org\nwww.socialistworker.org\nwww.isreview.org\nph 
 (415) 336 5034\n\n https://www.indybay.org/newsitems/2004/02/03/6933.php
SUMMARY:IS REVOLUTION POSSIBLE IN THE USA?
LOCATION:Women's Building\n3543 18th Street\n[between Valencia and Guererro]\n
URL:https://www.indybay.org/newsitems/2004/02/03/6933.php
DTSTART:20020502T020000Z
DTEND:20020502T040000Z
END:VEVENT
END:VCALENDAR
