BEGIN:VCALENDAR
VERSION:2.0
X-WR-CALNAME:www.indybay.org
PRODID:-//indybay/ical// v1.0//EN
BEGIN:VEVENT
UID:Indybay-673
SEQUENCE:673
CREATED:20011012T203100Z
DESCRIPTION:Job Fair for young job seekers 16 to 24. Free raffle, snacks, opportunities 
 and jobs. UPS GoodLife Safeway Job Corps SLUG AND YMCA BNHC Brava 
 Healthcare GAP RCN and more. \n 
 https://www.indybay.org/newsitems/2001/10/12/673.php
SUMMARY:Y.E.S. Job Fair
LOCATION:Bernal Heights Neighborhood Center\n515 Cortland Avenue\nSF CA 94110\n(24 
 and 67 Muni lines)\nOff Bayshore or Mission
URL:https://www.indybay.org/newsitems/2001/10/12/673.php
DTSTART:20011017T230000Z
DTEND:20011018T020000Z
END:VEVENT
END:VCALENDAR
