BEGIN:VCALENDAR
VERSION:2.0
X-WR-CALNAME:www.indybay.org
PRODID:-//indybay/ical// v1.0//EN
BEGIN:VEVENT
UID:Indybay-66553
SEQUENCE:66553
CREATED:20050518T160500Z
DESCRIPTION:PROTEST CONDOLEEZA RICE IN S.F., FRI., MAY 27  Join the protest against 
 Secretary of State Condoleeza Rice on Friday, May 27, 10 am - 1 pm, at 
 Davies Symphony Hall, Grove & Van Ness, San Francisco. Rice will be 
 speaking at a Commonwealth Club event. Say NO! to war and occupation in 
 Iraq, Palestine, Haiti, Afghanistan and everywhere. Stop the U.S threats 
 and intervention against Cuba, Venezuela, Korea, Philippines, Syria, Iran 
 and other countries. Protest the war at home!  For more information or to 
 endorse, call 415-821-6545, or email the ANSWER Coalition at 
 answer@actionsf.org.  \n 
 https://www.indybay.org/newsitems/2005/05/18/66553.php
SUMMARY:PROTEST CONDOLEEZA RICE IN S.F.
LOCATION:Davies Symphony Hall, Grove & Van Ness, San Francisco. Rice will be 
 speaking at a Commonwealth Club event.
URL:https://www.indybay.org/newsitems/2005/05/18/66553.php
DTSTART:20050527T170000Z
DTEND:20050527T200000Z
END:VEVENT
END:VCALENDAR
