BEGIN:VCALENDAR
VERSION:2.0
X-WR-CALNAME:www.indybay.org
PRODID:-//indybay/ical// v1.0//EN
BEGIN:VEVENT
UID:Indybay-65983
SEQUENCE:65983
CREATED:20050513T060000Z
DESCRIPTION:  	Who presents the greatest threat to security in Latin America? Secretary 
 of State Condoleezza Rice says it’s Hugo Chavez of Venezuela. President 
 Chavez says it is the Bush Administration. Who’s right?      Come and see 
 what twenty U.S. citizens, including eleven from the Bay Area, found out. 
 They are all members of a delegation sponsored by Global Exchange and Marin 
 Interfaith Task Force on the Americas, who spent ten days in Venezuela in 
 April.  This event features a visual presentation and eyewitness accounts 
 of what the Venezuelan people call their “Bolivarian Revolution.” The 
 program is scheduled for Tuesday, May 24, 7:30 p.m., at the First United 
 Methodist Church, 9 Ross Valley Drive (at Fourth Street), San Rafael. A 
 $5-10 donation is requested. No one turned away. Refreshments. Wheelchair 
 Accessible. For information 415/924-3227, mitf@igc.org, 
 http://www.mitfamericas.org.  ###  \n 
 https://www.indybay.org/newsitems/2005/05/12/65983.php
SUMMARY:Venezuela--Hope or Threat for Latin America
LOCATION:First United Methodist Church  9 Ross Valley Dr (at Fourth St)  San Rafael
URL:https://www.indybay.org/newsitems/2005/05/12/65983.php
DTSTART:20050525T023000Z
DTEND:20050525T033000Z
END:VEVENT
END:VCALENDAR
