BEGIN:VCALENDAR
VERSION:2.0
X-WR-CALNAME:www.indybay.org
PRODID:-//indybay/ical// v1.0//EN
BEGIN:VEVENT
UID:Indybay-65623
SEQUENCE:65623
CREATED:20050509T050200Z
DESCRIPTION:Two-hour program, with intermission.  Free and Open to the Public.  Seating 
 first come, first served.  ............  This one-woman drama exposes the 
 struggles and triumphs of Madame Marie Curie (nee Maria Sklodowska) - an 
 academically impassioned, vehemently private, fervently Polish scientist, 
 mother, and teacher. From the political oppression of her childhood, to 
 scientific realization and fame, to the tragedy that forced her into single 
 motherhood as well as further world prominence, Manya's story reveals a 
 compelling journey. Details at http://www.storysmith.org/manya  ---  More 
 events related to Polish community in California @  
 http://www.capolonia.com\n 
 https://www.indybay.org/newsitems/2005/05/08/65623.php
SUMMARY:MANYA-The Living History of Marie Sklodowska-Curie
LOCATION:sponsored by Lawrence Livermore National Laboratory. Presented at  Lawrence 
 Livermore High School  Livermore, California  
URL:https://www.indybay.org/newsitems/2005/05/08/65623.php
DTSTART:20050524T020000Z
DTEND:20050524T040000Z
END:VEVENT
END:VCALENDAR
