BEGIN:VCALENDAR
VERSION:2.0
X-WR-CALNAME:www.indybay.org
PRODID:-//indybay/ical// v1.0//EN
BEGIN:VEVENT
UID:Indybay-6553
SEQUENCE:6553
CREATED:20040203T182500Z
DESCRIPTION:Take the Day Off and Celebrate International Worker's Day!\n\nInkworks, 
 SpeakOut, Alliance Graphics, Tinker's Workshop, Project Underground and 
 many other Bay Area collectives/cooperatives/progressive organizations 
 invite you to our second annual May Day Blast!\n\nPotluck/BBQ - Activities 
 for the kids - Open Mike\nFREE\n 
 https://www.indybay.org/newsitems/2004/02/03/6553.php
SUMMARY:MayDay 2002
LOCATION:Inkworks \n2827-7th Street\nBerkeley
URL:https://www.indybay.org/newsitems/2004/02/03/6553.php
DTSTART:20020501T220000Z
DTEND:20020502T010000Z
END:VEVENT
END:VCALENDAR
