BEGIN:VCALENDAR
VERSION:2.0
X-WR-CALNAME:www.indybay.org
PRODID:-//indybay/ical// v1.0//EN
BEGIN:VEVENT
UID:Indybay-65333
SEQUENCE:65333
CREATED:20050505T052200Z
DESCRIPTION:San Francisco's 4th  Sex Worker  Film and Arts Festival   Melissa Gira  
 presents  boa: new whore culture webzine  Thursday, May 5th 7:30PM  at 
 Femina Potens, 465 South Van Ness, San Francisco  Tickets $5-$10  Hosted by 
 Melissa Gira    Join us for our launch party, featuring a performance by 
 Gennifer M. Hirano, asianprincess and readings by Mattilda (Matt Bernstein 
 Sycamore), Kirk Read, Shauna Rogan, and Lady Monster, kicking off with a 
 Whore Open Mic, as part of the 4th San Francisco Sex Worker Film and Arts 
 Festival, MC’d by boa’s publisher, Melissa Gira.    boa: new whore 
 culture is a web-based journal featuring sex worker artists, activists, and 
 provocateurs. Our aim is to showcase sharp cultural critique, provoking 
 first-person lit, & visual and performing arts speaking to whore-driven 
 culture and community.  boa is for and by whores working in diverse trades, 
 working multiple media and identities.   7:30 Whore Open Mic (sign up 
 begins at 7pm) 8:00pm: Readings, Followed by “Stripper School” with 
 asianprincess.    Kymberly Cutter  Asian Princess  Lady Monster  Mattilda 
 AKA Matt Sycamore Bernstein  Kirk Read  Shauna Rogan  For further info, 
 email swfest@bayswan.org or call 415-751-1659 
 \nhttp://www.bayswan.org/swfest2005/boalaunch.html\n 
 https://www.indybay.org/newsitems/2005/05/04/65333.php
SUMMARY:boa: new whore culture webzine event
LOCATION:  Thursday, May 5th 7:30PM  at Femina Potens, 465 South Van Ness, San 
 Francisco  Tickets $5-$10
URL:https://www.indybay.org/newsitems/2005/05/04/65333.php
DTSTART:20050506T023000Z
DTEND:20050506T053000Z
END:VEVENT
END:VCALENDAR
