BEGIN:VCALENDAR
VERSION:2.0
X-WR-CALNAME:www.indybay.org
PRODID:-//indybay/ical// v1.0//EN
BEGIN:VEVENT
UID:Indybay-64933
SEQUENCE:64933
CREATED:20050502T164000Z
DESCRIPTION:The Peace Studies Student Association, UC Berkeley’s Center for African 
 Studies and Bears for UNICEF invite you to a free event featuring a 
 screening of Uganda’s Invisible Children.  Invisible Children bears 
 witness to the “night commuters” of Northern Uganda, children who at 
 the end of every day walk from surrounding villages into the town of Gulu 
 to hide in basements, hospitals and churches to escape kidnapping from the 
 Lord’s Resistance Army. In the 18 year-old fight between the LRA and the 
 Ugandan government over 20,000 children have been abducted and taken as 
 child soldiers. On Tuesday come discover the child-victims of a struggle 
 which has received almost zero attention here in the United States and find 
 out what you can do to help.  Featured speakers:  Kristen Cheney PhD, 
 author of, “‘Our Children Have Only Known War’: Children’s 
 Experiences and the Uses of Childhood in Northern Uganda.”  Herb 
 Behrstock, former Chief Officer with United Nations Development Program     
  \n https://www.indybay.org/newsitems/2005/05/02/64933.php
SUMMARY:Uganda's Invisible Children
LOCATION:Lipman Room, 8th floor of Barrows Hall, UC Berkeley campus  
URL:https://www.indybay.org/newsitems/2005/05/02/64933.php
DTSTART:20050404T023000Z
DTEND:20050404T043000Z
END:VEVENT
END:VCALENDAR
