BEGIN:VCALENDAR
VERSION:2.0
X-WR-CALNAME:www.indybay.org
PRODID:-//indybay/ical// v1.0//EN
BEGIN:VEVENT
UID:Indybay-6453
SEQUENCE:6453
CREATED:20040203T182400Z
DESCRIPTION:Counter FBI Terrorism! The Director of the FBI, Robert Mueller, will be 
 speaking on "The FBI's role in homeland defense."  Rally outside to support 
 Judi Bari's lawsuit and all others persecuted by the FBI.  \n 
 https://www.indybay.org/newsitems/2004/02/03/6453.php
SUMMARY:Counter FBI Terrorism!
LOCATION:Pan Pacific Hotel\n500 Post St (at Mason)
URL:https://www.indybay.org/newsitems/2004/02/03/6453.php
DTSTART:20020419T183000Z
DTEND:20020419T193000Z
END:VEVENT
END:VCALENDAR
