BEGIN:VCALENDAR
VERSION:2.0
X-WR-CALNAME:www.indybay.org
PRODID:-//indybay/ical// v1.0//EN
BEGIN:VEVENT
UID:Indybay-64363
SEQUENCE:64363
CREATED:20050425T222600Z
DESCRIPTION:In Defense of Prostitute Women’s Safety Project presents:     Know Our 
 Rights! A Self Help Legal Workshop on Safety and Protection for Sex Workers 
 & others   Thursday April 28 7:00-9:00pm  Pier 5 Law Office, 506 Broadway, 
 San Francisco  Donation $5-10 (no one turned away)  Refreshments     © 
 What are the prostitution laws and how are they implemented?   © Your 
 rights as a victim of rape or sexual assault including when reporting to 
 the police and going to court.    © How the prostitution laws make sex 
 workers and other women more vulnerable to violence.    © Fighting ‘stay 
 out of areas of prostitution’ (SOAPS) and municipal police code 
 citations. Dealing with sexism, racism and other discrimination.  © 
 Getting financial help and compensation for rape or sexual assault.   © 
 Women in prison demanding protection against sexual abuse and rape and 
 other basic human rights. Saying no to pat searches by male guards.     © 
 What is being done to make it easier for prostitute women to report rape 
 and other violence?  How women are pressing the City of San Francisco to 
 make the safety and protection of sex workers an urgent priority?    The In 
 Defense of Prostitute Women’s Safety project (IDPWS) is an anti-sexist, 
 anti-racist, independent community resource that provides legal advice, 
 other support for prostitute women who have been raped and/or sexually 
 assaulted and builds public awareness campaigns to end violence against sex 
 workers.  Run by women from similar backgrounds, IDPWS respects women’s 
 confidentiality and privacy.   For more info: (415) 626-4114, PO Box 14512, 
 SF, CA. 94114  sf@crossroadswomen.net  Partially funded by the Commission 
 on the Status of Women  \n 
 https://www.indybay.org/newsitems/2005/04/25/64363.php
SUMMARY:Know Our Rights! A Self Help Legal Workshop on Safety and Protection for Sex Wor
LOCATION:Pier 5 Law Office, 506 Broadway,   San Francisco  Donation $5-10 (no one 
 turned away) 
URL:https://www.indybay.org/newsitems/2005/04/25/64363.php
DTSTART:20050430T020000Z
DTEND:20050430T040000Z
END:VEVENT
END:VCALENDAR
