BEGIN:VCALENDAR
VERSION:2.0
X-WR-CALNAME:www.indybay.org
PRODID:-//indybay/ical// v1.0//EN
BEGIN:VEVENT
UID:Indybay-63683
SEQUENCE:63683
CREATED:20050420T200700Z
DESCRIPTION:In this provocative new book, Andrew Bacevich warns of a dangerous dual 
 obsession that has taken hold of Americans, conservatives and liberals 
 alike. It is a marriage of militarism and utopian ideology -- of 
 unprecedented military might wed to a blind faith in the universality of 
 American values. This perilous union, Bacevich argues, commits Americans to 
 a futile enterprise, turning the US into a crusader state with a 
 self-proclaimed mission of driving history to its final destination: the 
 world-wide embrace of the American way of life. This mindset invites 
 endless war and the ever-deepening militarization of US policy.\n 
 https://www.indybay.org/newsitems/2005/04/20/63683.php
SUMMARY:The New American Militarism: How Americans are Seduced by War
LOCATION:312 Sutter St. 2nd Floor  between Stockton and Grant  San Francisco 94108
URL:https://www.indybay.org/newsitems/2005/04/20/63683.php
DTSTART:20050505T010000Z
DTEND:20050505T020000Z
END:VEVENT
END:VCALENDAR
