BEGIN:VCALENDAR
VERSION:2.0
X-WR-CALNAME:www.indybay.org
PRODID:-//indybay/ical// v1.0//EN
BEGIN:VEVENT
UID:Indybay-63073
SEQUENCE:63073
CREATED:20050414T164100Z
DESCRIPTION:Come out and help us celebrate the launching of EastBayNews.org, the first 
 e-publication of Epicenter News Service, a news organization dedicated to 
 serving the left/progressive communities of the East Bay and beyond.  Enjoy 
 drinks, hors d'ouvers, music & socializing with ENS officers and 
 journalists.  No speeches, just fun.   Do be down.  This SUNDAY, 4/17/05, 
 7-11pm  Tea House/Epic Arts  1923 Ashby (at MLK- by Ashy BART)  Oakland    
 click here for map: http://www.epicarts.org/map/index.html  free admission  
 \n https://www.indybay.org/newsitems/2005/04/14/63073.php
SUMMARY:Party Celebrating Launching of EastBayNews.org
LOCATION:Epic Arts/Tea House  1923 Ashby Ashby @ MLK - by Ashby BART  Oakland  
URL:https://www.indybay.org/newsitems/2005/04/14/63073.php
DTSTART:20050418T020000Z
DTEND:20050418T060000Z
END:VEVENT
END:VCALENDAR
